BEGIN:VCALENDAR
VERSION:2.0
METHOD:PUBLISH
BEGIN:VEVENT
UID:WILD_APRICOT_EVENT_3600949_SESSION_1
DTSTART:20191106T103000Z
DTEND:20191106T103000Z
SUMMARY:2019 Western Australia Annual Dinner
LOCATION:Acqua Viva on the Swan (Broadway Jetty\, Nedlands)
DESCRIPTION:https://fulbrightalumni.org.au/event-3600949\n\nThe WA Chapter of the Australian\n Fulbright Alumni Association warmly\n invites you\, your partner\, and guests to the\n 2019 WA ANNUAL FULBRIGHT DINNER\n WEDNESDAY\, 6 NOVEMBER 2019\n 6:30 – 9:30 p.m\n  Venue: Acqua Viva on the Swan (Broadway Jetty\, Nedlands)\n What: Delicious three course menu\; drinks not included (please\n bring cash)\n Dress: Semi-formal\n Please RSVP to p.chang@ecu.edu.au\n Tickets are $79* per person and may be booked here\n  (You may also register at eventbrite.com.au and search for ‘2019 WA\n Fulbright Annual Dinner’)\n  *Please note that Eventbrite charges a fee\n  \n\n
DTSTAMP:20260424T154838Z
END:VEVENT
END:VCALENDAR
