BEGIN:VCALENDAR
VERSION:2.0
METHOD:PUBLISH
BEGIN:VEVENT
UID:WILD_APRICOT_EVENT_3589615_SESSION_1
DTSTART:20191104T210000Z
DTEND:20191104T210000Z
SUMMARY:Melbourne Breakfast with the US Fulbright Association
LOCATION:Dining room\, Mercure Welcome Melbourne\, 265 Little Bourke St\, Melbourne VIC 3000
DESCRIPTION:https://fulbrightalumni.org.au/event-3589615\n\nTo celebrate the 70th anniversary of the Australian-American Fulbright program\, a delegation of 12 members from our sister organisation\, the American Fulbright Association is visiting Australia on a guided tour. \n  We invite you to meet the US delegation for a breakfast celebration on Tuesday\, 5th November (yes\, it's the Melbourne Cup holiday!)\n  Details:\n  Date/time: Tuesday 5th November\, 8:00 am\n  Venue: Dining room\, Mercure Welcome Melbourne\, 265 Little Bourke St\, Melbourne VIC 3000\n  Cost:  $21 per person (pay at the hotel)\n  RSVP: By Friday 1st November to Iain Butterworth <president.afaa@gmail.com> and Dorothy Yen <dorothy@insiderexpeditions.com>\n   \n
DTSTAMP:20260424T155146Z
END:VEVENT
END:VCALENDAR
