BEGIN:VCALENDAR
VERSION:2.0
METHOD:PUBLISH
BEGIN:VEVENT
UID:WILD_APRICOT_EVENT_3589380_SESSION_1
DTSTART:20191022T070000Z
DTEND:20191022T070000Z
SUMMARY:Queensland Fulbright Social dinner and discussion
LOCATION:Ahmet’s Turkish Restaurant\, Shop 10/168 Grey Street\, South Bank\, QLD
DESCRIPTION:https://fulbrightalumni.org.au/event-3589380\n\nFollowing other great Queensland based events this year\, come along on 22 October to meet with fellow Fulbright alumni to connect and discuss interesting topics over a meal. If you have a specific subject you would like to explore\, please let us know and we can make part of the evening a more formal conversation. Or we just catch up. We are open to your suggestions. \n  Where: We are meeting at Ahmet Turkish Restaurant.  Located at Shop 10/168 Grey Street\, South Bank. Grab a tasty pide for only $10 or explore the extensive menu and enjoy meze and other traditional Turkish dishes. \n  When: Tuesday\, October 22nd. We will be there from 6 pm onwards so if you can only be there later\, please join us nevertheless. \n  We look forward to seeing you! \n  Let us know your suggested discussion topics by email.\n
DTSTAMP:20260424T174909Z
END:VEVENT
END:VCALENDAR
