BEGIN:VCALENDAR
VERSION:2.0
METHOD:PUBLISH
BEGIN:VEVENT
UID:WILD_APRICOT_EVENT_3576545_SESSION_1
DTSTART:20191018T053000Z
DTEND:20191018T080000Z
SUMMARY:Fulbright Peer Learning Seminar - RMIT University (City Campus)
LOCATION:RMIT University\, City Campus\, Building 8 Level 10\, 360 Swanston Street\, Melbourne
DESCRIPTION:https://fulbrightalumni.org.au/event-3576545\n\nAFAA's Victorian Chapter invite you to attend a Fulbright Peer Learning Seminar on Friday\, 18 October\, at RMIT University (City Campus).\n  The aim of the Seminar is for current Fulbrighters and Fulbright alumni in Victoria to get together and learn about each other’s wonderful work and Fulbright journeys.\n  We will be asking interested attendees to put together a 10-minute presentation outlining their Fulbright project and journey. The presentations should be creative\, engaging and a starting point for further discussions.\n  About the event:\n\n  Time: 4:30pm – 7:00pm\n  Where: RMIT University\, City Campus\, Building 8 Level 10\, 360 Swanston Street\, Melbourne\n  Please RSVP your attendance\, and interest in presenting by Friday\, 10 October to Anna Urbanowicz at anna.urbanowicz@rmit.edu.au or (03) 9925 3084.\n  Light refreshments will be provided during the event. For anyone that is interested\, the group could head out for dinner or a drink after the event.\n  We hope you can make it!\n  Anna\n\n
DTSTAMP:20260424T155003Z
END:VEVENT
END:VCALENDAR
