BEGIN:VCALENDAR
VERSION:2.0
METHOD:PUBLISH
BEGIN:VEVENT
UID:WILD_APRICOT_EVENT_3515547_SESSION_1
DTSTART:20190814T080000Z
DTEND:20190828T100000Z
SUMMARY:OneWomanProject is hosting an inaugural VIC Seminar Series
LOCATION:Kathleen Syme Library and Community Centre\, Melbourne
DESCRIPTION:https://fulbrightalumni.org.au/event-3515547\n\nOneWomanProject is hosting an inaugural VIC Seminar Series and all are welcome to register. The three-week seminar series on Feminine Leadership is being held in the Kathleen Syme Community Centre in Melbourne\, beginning on Wednesday 14 August 2019.\n  Tickets are on sale now on the OneWomanProject website: https://www.onewomanproject.org/shop/seminar-series-feminine-leadership. Equity tickets are available for low-income earners.Please note: the ticket is valid for the entire three-week series.\n \n The sessions will run as follows:\n Wednesday 14 August\n Seminar 1 – Panel on Feminine Leadership within the community\n \n Wednesday 21 August\n Seminar 2 – Mentoring Workshop with speakers from STEM and Humanities backgrounds\n \n Wednesday 28 August\n Seminar 3 – Networking Workshop   \n\n
DTSTAMP:20260424T161208Z
END:VEVENT
END:VCALENDAR
