BEGIN:VCALENDAR
VERSION:2.0
METHOD:PUBLISH
BEGIN:VEVENT
UID:WILD_APRICOT_EVENT_3474212_SESSION_1
DTSTART:20190920T080000Z
DTEND:20190920T080000Z
SUMMARY:Bribane Festival Fulbright Get-together
LOCATION:6 Musk Ave\, Kelvin Grove\, QLD
DESCRIPTION:https://fulbrightalumni.org.au/event-3474212\n\n Come join fellow alumni and friends in Brisbane to meet up and enjoy a Brisbane festival event\, Theatre Republic. Food and drink are available to purchase\, along with live music and see at least two short theatre shows available to see. There are also 7 different themes installations. \n  See here for more information: https://www.brisbanefestival.com.au/whats-on/theatre-republic\n  So that we all meet in the same place\, please include your mobile in your registration so that we can add you to an event WhatsApp group. We (Caroline and Angela) will be there early to scout the place and let everyone know where we are. \n  The event is free and we all purchase our own food and drink. It will be a fun evening with music and live shows\, as always\, in great company.\n\n  Location map: https://goo.gl/maps/moBfu8Mxii7K92e56\n\n
DTSTAMP:20260424T173839Z
END:VEVENT
END:VCALENDAR
