BEGIN:VCALENDAR
VERSION:2.0
METHOD:PUBLISH
BEGIN:VEVENT
UID:WILD_APRICOT_EVENT_3474211_SESSION_1
DTSTART:20190822T080000Z
DTEND:20190822T100000Z
SUMMARY:Brisbane Alumni seminar - fun with science
LOCATION:TAFE QUEENSLAND Collaboration Space South Bank Campus Building C\, C Level 4 Block Ernest Street\, South Brisbane
DESCRIPTION:https://fulbrightalumni.org.au/event-3474211\n\nCome join fellow alumni and friends in Brisbane for a fun and interactive seminar session featuring Farrukh Metteen\, presenting on nanotechnology: Micro-nanoscale devices get the job done.\n  This is a public event and all are welcome. We are hosted by Anitza Geneve in the TAFE Queensland Collaboration Space.  We will be in Zones 2 and 6 in the C block level 4 Ernest street.  Watch for signs and follow them up to us!\n\n  Need help finding or navigating the TAFE Queensland South Bank campus? Look for signs to find the venue and below is a campus map:\n  \n\n  After the formal session closes we will adjourn\, for those interested\, to a nearby pub or restaurant to keep socializing and grab food (individual cheques).\n  About the session: Micro-nanoscale devices get the job done\n  How small is small? A roadroller can help build a road. A colossal crane can make a bridge. What can a piece of silicon half the width of a human hair do for us? How do we even build such devices and once we do what good are they to us? This interactive presentation will bring an overview of this area for a diverse audience. Examples from research into the many practical areas of application for this technology will be presented especially those related to the exciting area of biomedical applications.\n\n  About the speaker: Farrukh Mateen\nFarrukh holds a Ph.D. in Mech. Engg. from Boston University (USA) where he developed a nanowire based biosensor which spawned the startup Femtodx in Silicon Valley. Previously as a Fulbright scholar from Pakistan he completed a masters in Mech. Engg. from Purdue University (USA). He has over seven years of working with micro-nano fabrication at leading research centers and clean rooms at Purdue\, BU\, Harvard and UCLA. Presently he works as a micro fabrication scientist at a Brisbane biotech startup aimed at commercializing wearable biosensors called WearOptimo. In his free time Farrukh enjoys exploring Queensland\, reading\, music and volunteering.   \n\n
DTSTAMP:20260424T171458Z
END:VEVENT
END:VCALENDAR
