BEGIN:VCALENDAR
VERSION:2.0
METHOD:PUBLISH
BEGIN:VEVENT
UID:WILD_APRICOT_EVENT_3445894_SESSION_1
DTSTART:20190628T090000Z
DTEND:20190628T090000Z
SUMMARY:A Natural History of Beer - A Questacon\, Fulbright Commission\, AFAA supported event
LOCATION:Questacon –The National Science & Technology Centre
DESCRIPTION:https://fulbrightalumni.org.au/event-3445894\n\nA Natural History of Beer\n Ticketed event - quick - tickets are nearly sold out. This is a Questacon\, Fulbright Commission\, AFAA hosted event.  Questacon has reserved the last 15 tickets for Fulbright alumni so purchase yours now before they are all gone.\n  Tickets are $45 and can be purchased here.\n  About the event:\n  What can beer teach us about biology\, history\, and the natural world? Professor Rob DeSalle\, Distinguished Fulbright Chair\, from the American Museum of Natural History—and co-author of the book 'A Natural History of Beer'—will lead you on a hops-filled journey of discovery!\n Come and imbibe four local beers and enjoy a conversation about beer based on:\n\n         * the history of beer and drinking\;\n\n          * the ingredients in beer and how they work\;\n\n          * the effect of beer on our bodies\;\n\n          * and the future of beer!\n\n   This event is strictly 18+ and bookings are essential.\n
DTSTAMP:20260424T155320Z
END:VEVENT
END:VCALENDAR
