BEGIN:VCALENDAR
VERSION:2.0
METHOD:PUBLISH
BEGIN:VEVENT
UID:WILD_APRICOT_EVENT_3347982_SESSION_1
DTSTART:20190404T073000Z
DTEND:20190404T073000Z
SUMMARY:Informal Queensland gathering - planning for the future
LOCATION:Little Big House\, 271 Grey St\, South Brisbane\, just across from South Bank station.
DESCRIPTION:https://fulbrightalumni.org.au/event-3347982\n\nThere's an informal impromptu gathering of some of our Queensland local contacts today!  Caroline Smith and Angela Heise are meeting at Little Big House\, 271 Grey St\, South Brisbane\, just across from South Bank station at 5:30pm to have an informal catch up about easy ways to engage with alumni this year and a few events we might want to throw. If you're excited to engage and lend a helping hand - or just meet a couple of our engaged local contacts - come along at 5:30pm.  If you can't make it but still want to be involved just email us at admin@fulbrightalumni.org.au and we'll connect you in.\n  \n\n
DTSTAMP:20260424T174610Z
END:VEVENT
END:VCALENDAR
