BEGIN:VCALENDAR
VERSION:2.0
METHOD:PUBLISH
BEGIN:VEVENT
UID:WILD_APRICOT_EVENT_3271281_SESSION_1
DTSTART:20190320T070000Z
DTEND:20190320T070000Z
SUMMARY:Victorian Chapter Gathering: an evening with Trevor Hancock
LOCATION:Leather Room\, University House\, Professors' Walk\, University of Melbourne
DESCRIPTION:https://fulbrightalumni.org.au/event-3271281\n\n\n\n  - Public health physician and health promotion consultant\n  - First leader of the Green Party of Canada\n  - Co-founder of the WHO Healthy Cities and Communities program\n  - Emeritus Professor and Senior Scholar at the School of Public Health and Social Policy at the University of Victoria in Canada \n\n  Prof Trevor Hancock is a public health physician and health promotion consultant and is currently Emeritus Professor and Senior Scholar at the School of Public Health and Social Policy at the University of Victoria in Canada. Over the past 40 years\, he has worked as a consultant for local communities\, municipal\, provincial and national governments\, health care organizations\, NGOs and the World Health Organization. His main areas of interest are population health promotion\, healthy cities and communities\, public health\, healthy public policy\, environment and health\, healthy and 'green' hospitals\, health policy and planning\, and health futurism. He has been described as “one of the ten best health futurists in the world”.\n  AFAA President\, Dr. Iain Butterworth met Trevor Hancock in 2004 through Iain's Fulbright mentor\, Dr Leonard Duhl\, Professor of Public Health and Urban Planning at UC Berkeley.\n  On Iain's invitation\, Trevor looks forward to meeting Fulbright alumni and visiting scholars for 90 minutes of open discussion\, followed by dinner at 7:30 pm at University House restaurant. (Note\, you'll need to pay for your meal) \n  To register\, please contact Dr. Elizabeth Brooke\, email: ebrooke425@gmail.com\n\n
DTSTAMP:20260424T161929Z
END:VEVENT
END:VCALENDAR
