BEGIN:VCALENDAR
VERSION:2.0
METHOD:PUBLISH
BEGIN:VEVENT
UID:WILD_APRICOT_EVENT_2931236_SESSION_1
DTSTART:20180524T073000Z
DTEND:20180524T093000Z
SUMMARY:TEDxFulbright Canberra hosted by Australian-American Fulbright Commission
LOCATION:Questacon\, King Edward Terrace\,  Parkes\, ACT 2600
DESCRIPTION:https://fulbrightalumni.org.au/event-2931236\n\nThis event is organized by the Australian-American Fulbright Commission and features 6 talks from current Fulbright scholars and alumni (including AFAA treasurer Vanessa Adams).\n\n  About the event:\n  Tickets are free but RSVP is essential: https://www.eventbrite.com.au/e/tedxfulbrightcanberra-tickets-45224387360\n\n  In 2018 TEDxFulbrightCanberra will have as theme "Power & Wisdom\," inspired in these words of Senator J William Fulbright: “Science has radically changed the conditions of human life on earth. It has expanded our knowledge and our power\, but not our capacity to use them with wisdom".\n  TEDxFulbrightCanberra is being made possible thanks to funding from the U.S. Embassy Public Affairs Section\, the support of individual and institutional partners\, and the enthusiastic participation of a group of current and former Fulbright scholars who have volunteered for this event.\n  Speakers:\nFergus Hanson\, 2011 Fulbright Professional Scholar in International Relations from the Lowy Institute at George Washington University  Sylvia Biscoveanu\, 2017 Fulbright Postgraduate Scholar in Astrophysics at the ARC Centre for Gravitational Wave Discovery (Monash University)\n  Noah Johnson\, 2017 Fulbright Postgraduate Scholar in Quantum Physics at the ARC Centre of Excellence for Quantum Computation & Communication Technology (University of New South Wales)\n  Vanessa Adams\, 2004 Fulbright Postgraduate Scholar in Biological Sciences at James Cook University (now at Macquarie University)\n  Ross Andel\, 2017 Fulbright Distinguished Chair of Arts\, Humanities\, and Social Sciences in Gerontology at The Australian National University\n  Michael Raitor\, 2017 Fulbright Postgraduate Scholar in Biomechanical Engineering at the University of New South Wales\n
DTSTAMP:20260424T161235Z
END:VEVENT
END:VCALENDAR
