BEGIN:VCALENDAR
VERSION:2.0
METHOD:PUBLISH
BEGIN:VEVENT
UID:WILD_APRICOT_EVENT_2928935_SESSION_1
DTSTART:20180520T033000Z
DTEND:20180520T033000Z
SUMMARY:Join Alumnus Danae Killian: Recital and launch of CD Ernest Bloch: Viola and Piano
LOCATION:St Stephen's Anglican Church at 380 Church St\, Richmond
DESCRIPTION:https://fulbrightalumni.org.au/event-2928935\n\nNotice of Recital\nFulbrighter Danae Killian and Barbara Hornung are celebrating the launch of their new Move Records CD Ernest Bloch: Viola and Piano. They are giving a recital of exciting duo and solo works by Bach\, Bloch\, and Brahms\, alongside the world premiere of Scrabble by Melbourne composer\,Colin McKellar.   The viola and piano recital and CD launch will take place Sunday 20 May at 1.30pmin the beautiful St Stephen's Anglican Church at 380 Church St\, Richmond.\n  Danae and Barbara have played as a duo for a number of years\, with the viola and piano works of Swiss-American composer Ernest Bloch (1880-1959) forming the heart of their musical collaboration. Known best for his music on Jewish cultural and liturgical themes\, Bloch was an eclectic modernist composer who drew inspiration from around the globe to create his original and compelling language. His music speaks with the intensity\, freshness\, and variety of a force of nature.\n  Tickets: $30 full\; $15 concession\n  Bookings: https://www.trybooking.com\n  Facebook event page: https://www.facebook.com/events/1684068085009949/\n
DTSTAMP:20260424T174424Z
END:VEVENT
END:VCALENDAR
