BEGIN:VCALENDAR
VERSION:2.0
METHOD:PUBLISH
BEGIN:VEVENT
UID:WILD_APRICOT_EVENT_2928932_SESSION_1
DTSTART:20180603T093000Z
DTEND:20180603T093000Z
SUMMARY:Join Alumnus Professor Carole Fink: West Germany and Israel: Nine Tumultuous Years 1965-1974
LOCATION:Mandelbaum House\, University of Sydney
DESCRIPTION:https://fulbrightalumni.org.au/event-2928932\n\nThis event is hosted by Mandelbaum house and features Fulbright Alumnus Professor Carole Fink. For full details see the flyer: Fink Flyer.pdf\n\n  Entry: $10 adult\, $5 students\n\n  Jewish Diplomacy and the Politics of War and Peace\, 1914-1919\n\n  Disparate partners linked by the tragic German-Jewish past\, the Federal Republic of Germany and the State of Israel began a diplomatic relationship In 1965 that was colored by a changing Cold war and their dashing national goals and domestic politics.\n\n
DTSTAMP:20260424T173820Z
END:VEVENT
END:VCALENDAR
