BEGIN:VCALENDAR
VERSION:2.0
METHOD:PUBLISH
BEGIN:VEVENT
UID:WILD_APRICOT_EVENT_2928931_SESSION_1
DTSTART:20180527T093000Z
DTEND:20180527T093000Z
SUMMARY:Join Alumnus Professor Carole Fink: Jewish Diplomacy and the Politics of War and Peace\, 1914-1919
LOCATION:Mandelbaum House\, University of Sydney
DESCRIPTION:https://fulbrightalumni.org.au/event-2928931\n\nThis event is hosted by Mandelbaum house and features Fulbright Alumnus Professor Carole Fink. For full details see the flyer: Fink Flyer.pdf\n\n  Entry: $10 adult\, $5 students\n\n  Jewish Diplomacy and the Politics of War and Peace\, 1914-1919\n\n  World war I represented a major challenge to the Jewish people\, during which they faced each other as enemies\, underwent physical suffering and revolutions\, and played their first rule as diplomats at the Paris Peace Conference.\n\n
DTSTAMP:20260424T161850Z
END:VEVENT
END:VCALENDAR
