BEGIN:VCALENDAR
VERSION:2.0
METHOD:PUBLISH
BEGIN:VEVENT
UID:WILD_APRICOT_EVENT_2928930_SESSION_1
DTSTART:20180513T093000Z
DTEND:20180513T093000Z
SUMMARY:Join Alumnus Professor Carole Fink: Two remarkable Rebels
LOCATION:Mandelbaum House\, University of Sydney
DESCRIPTION:https://fulbrightalumni.org.au/event-2928930\n\nThis event is hosted by Mandelbaum house and features Fulbright Alumnus Professor Carole Fink. For full details see the flyer: Fink Flyer.pdf\n\n  Entry: $10 adult\, $5 students\n\n  Two remarkable Rebels\n\n  A reconsideration of two extraordinary Jewish women\, who championed the rights of the oppressed and fought far social Justice. Both were brilliant writers and remarkable speakers\, and both Insisted that humanity was best served by unremitting attention to personal freedom and democratic values.\n\n
DTSTAMP:20260424T161633Z
END:VEVENT
END:VCALENDAR
