BEGIN:VCALENDAR
VERSION:2.0
METHOD:PUBLISH
BEGIN:VEVENT
UID:WILD_APRICOT_EVENT_2831497_SESSION_1
DTSTART:20180323T090000Z
DTEND:20180323T090000Z
SUMMARY:Fulbright Alumnus\, Dr Donna Coleman\, performing ith the Melbourne Sinfonia
LOCATION:Methodist Ladies College\, Barkers Road\, Kew
DESCRIPTION:https://fulbrightalumni.org.au/event-2831497\n\nDid you miss our talented Fulbright Alumnus\, Dr Donna Coleman\, at her free solo performance on March 9th? You're in luck\, you can catch her performing with the Melbourne Sinfonia under the direction of Joannes Roose (Clara Wieck Concerto in A minor\, opus 7).\n\n  For tickets visit: https://melbournesinfonia.org.au/tickets/\n
DTSTAMP:20260424T161844Z
END:VEVENT
END:VCALENDAR
