BEGIN:VCALENDAR
VERSION:2.0
METHOD:PUBLISH
BEGIN:VEVENT
UID:WILD_APRICOT_EVENT_2831494_SESSION_1
DTSTART:20180309T070000Z
DTEND:20180309T070000Z
SUMMARY:Fulbright Alumnus\, Dr Donna Coleman\, free solo piano concert
LOCATION:Melba Hall\, Royal Parade\, Parkville
DESCRIPTION:https://fulbrightalumni.org.au/event-2831494\n\nOur talented Fulbright Alumnus\, Dr Donna Coleman\, will be performing a free solo piano concert featuring works by Charles Ives\, Ludwig van Beethoven\, J.S. Back and Scott Joplin.\n\n  For more details visit:\n  http://finearts-music.unimelb.edu.au/whats-on/details?event=9862\n
DTSTAMP:20260424T161810Z
END:VEVENT
END:VCALENDAR
