BEGIN:VCALENDAR
VERSION:2.0
METHOD:PUBLISH
BEGIN:VEVENT
UID:WILD_APRICOT_EVENT_2831487_SESSION_1
DTSTART:20180522T073000Z
DTEND:20180522T073000Z
SUMMARY:Victoria Chapter Quarterly Social Gathering
LOCATION:Leather Room\, University House\, Professors' Walk\, University of Melbourne
DESCRIPTION:https://fulbrightalumni.org.au/event-2831487\n\nThis next Victorian quarterly gathering will occur May 22 in the Leather Room. As always\, we will start in the Leather Room and then head to the Bistro for dinner (for those interested\, individual checks).  The event will start at 5:30 and we will host a lively discussion.\n\n  \n\n
DTSTAMP:20260424T161441Z
END:VEVENT
END:VCALENDAR
