BEGIN:VCALENDAR
VERSION:2.0
METHOD:PUBLISH
BEGIN:VEVENT
UID:WILD_APRICOT_EVENT_2831484_SESSION_1
DTSTART:20180322T063000Z
DTEND:20180322T063000Z
SUMMARY:Australian Fulbright Alumni Association 2018 Annual General Meeting
LOCATION:Leather Room\, University House\, Professors’ Walk\, University of Melbourne
DESCRIPTION:https://fulbrightalumni.org.au/event-2831484\n\nThe Australian Fulbright Alumni Association Annual General Meeting will be held the evening of March 22 in Melbourne. The AGM is kindly hosted by the Victorian Chapter just prior to a social gathering.\n\n  We invite members to join us for the AGM and subsequent social gathering featuring a talk by Melanie Poole and dinner for those interested in continuing the evening.\n  The AGM agenda is as follows:\n  5:30pm - President welcome and 2017 report\n  5:45pm - Treasurer financial report and member vote to approve\n  5:50pm - Member vote to confirm new Committee member positions\n  5:55pm - President closes formal voting items and opens up to social component.\n  6:00pm  - open discussion period. What do you want to see AFAA tackle in 2018?\n\n  6:30pm - AGM formal agenda closes and moves into social component.\n We are pleased to be joined by Melanie Poole\, a Fulbright Alumnus who we will speak to us about her work.\n\n  For those interested\, we will move to the dining room at 7:30pm for dinner and drinks (individual checks).\n  \n Planning to attend in person? The Leather Room is an intimate space - to help us manager numbers and catering of nibbles please RSVP to Elizabeth Brooke by email: ebrooke425@gmail.com.\n  If you wish to join remotely we will be providing teleconference access via Zoom. Please email Vanessa Adams for teleconference details: vanessa.adams@mq.edu.au.  \n\n
DTSTAMP:20260424T161336Z
END:VEVENT
END:VCALENDAR
