BEGIN:VCALENDAR
VERSION:2.0
METHOD:PUBLISH
BEGIN:VEVENT
UID:WILD_APRICOT_EVENT_2737589_SESSION_1
DTSTART:20171122T130000Z
DTEND:20171123T130000Z
SUMMARY:Happy Thanksgiving!
LOCATION:
DESCRIPTION:https://fulbrightalumni.org.au/event-2737589\n\nHappy Thanksgiving! This is one of our favorite holidays to share with fellow alumni. There are a number of informal gatherings happening around the country to celebrate Thanksgiving\, check out our calendar. If you're looking for some fellow alumni to celebrate with check out the Local Contacts page and find some friends in your area to enjoy a turkey dinner with.\n\n
DTSTAMP:20260424T174252Z
END:VEVENT
END:VCALENDAR
