BEGIN:VCALENDAR
VERSION:2.0
METHOD:PUBLISH
BEGIN:VEVENT
UID:WILD_APRICOT_EVENT_2737576_SESSION_1
DTSTART:20171012T080000Z
DTEND:20171012T080000Z
SUMMARY:Annual WA Gala Dinner
LOCATION:Acqua Viva in Nedlands\, Perth
DESCRIPTION:https://fulbrightalumni.org.au/event-2737576\n\nThe WA Chapter hosted their annual Gala dinner including a welcome by the US Consul General for Western Australia\, Rachel Cook\,e and a keynote by Prof Ray Wills from University of Western Australia.\n\n
DTSTAMP:20260424T161353Z
END:VEVENT
END:VCALENDAR
