BEGIN:VCALENDAR
VERSION:2.0
METHOD:PUBLISH
BEGIN:VEVENT
UID:WILD_APRICOT_EVENT_2733289_SESSION_1
DTSTART:20171202T080000Z
DTEND:20171202T080000Z
SUMMARY:Tasmania Thanksgiving Celebration
LOCATION:Hobart
DESCRIPTION:https://fulbrightalumni.org.au/event-2733289\n\nPeter Jarvis is kindly hosting Tas Fulbrighters and friends to a thanksgiving dinner on December 2nd in Hobart. This will be a DIY\, bring-a-plate affair. To join in on the celebration please RSVP directly to Peter Jarvis (peter.jarvis@utas.edu.au) with numbers joining and nominating what you will bring (main/salad/dessert\, vegetarian or non vegetarian). Upon RSVP address and contact details for the day will be provided.\n
DTSTAMP:20260424T161803Z
END:VEVENT
END:VCALENDAR
