BEGIN:VCALENDAR
VERSION:2.0
METHOD:PUBLISH
BEGIN:VEVENT
UID:WILD_APRICOT_EVENT_2589862_SESSION_1
DTSTART:20170709T000000Z
DTEND:20170709T000000Z
SUMMARY:Tasmanian winter breakfast
LOCATION:Huon Valley
DESCRIPTION:https://fulbrightalumni.org.au/event-2589862\n\nTasmanian winter breakfast. All Fulbright alumni\, scholars\, friends and spouses are invited to an American style breakfast in front of a log fire in the Huon Valley. Please reply to Maggy Tomkins for more details. 0411 232 777\n
DTSTAMP:20260424T161225Z
END:VEVENT
END:VCALENDAR
