BEGIN:VCALENDAR
VERSION:2.0
METHOD:PUBLISH
BEGIN:VEVENT
UID:WILD_APRICOT_EVENT_2584087_SESSION_1
DTSTART:20170702T020000Z
DTEND:20170702T020000Z
SUMMARY:Fish & Chips in Balmoral
LOCATION:Near the Esplanade\, Balmoral Beach
DESCRIPTION:https://fulbrightalumni.org.au/event-2584087\n\nCome for an informal fish and chips social event in Balmoral to meet the current Fulbright Scholars in the Sydney area and catch up with some old Alumni friends. \n\n  This event is kindly being organized and hosted by Fulbright Alumnus Janet Flint\, Unit 1\, 6 Almora Street\, Mosman 2088 which is very close to the Esplanade at Balmoral Beach. \n\n  Please RSVP on this site (or email admin@fulbrightalumni.org.au).\n\n  A note on how to find the location from Janet:\n  It is easy to come by a ferry  to Taronga Zoo wharf which leaves at 20 mins past or  10 mins to the hour from Circular Quay.  A bus (238 ) meets the ferry at the Taronga Zoo wharf and brings you to the Esplanade at Balmoral opposite Hunter Park.  Almora Street runs off the Esplanade on left hand side of the park and No.6 is the third block of units (blue) along with 1 tall palm tree in front. A bus\, no. 245\, leaves from Carrington Street\, directly behind Wynyard train station once an hour\, usually about 40 minutes past the hour and will bring you down to Hunter Park. If you are coming from the north side of the harbour\,  a bus (257) runs from Chatswood station to Balmoral also\, with many stops along Military Road.\n
DTSTAMP:20260424T174002Z
END:VEVENT
END:VCALENDAR
