BEGIN:VCALENDAR
VERSION:2.0
METHOD:PUBLISH
BEGIN:VEVENT
UID:WILD_APRICOT_EVENT_2582731_SESSION_1
DTSTART:20171117T220000Z
DTEND:20171118T060000Z
SUMMARY:Australian Fulbright Alumni Association Inaugural Conference
LOCATION:Woodward Conference Centre\, 10th Floor\, 185 Pelham Street\,University of Melbourne\, VIC
DESCRIPTION:https://fulbrightalumni.org.au/event-2582731\n\nAFAA is excited to announce its inaugural conference\, to be held Saturday 18th November in Melbourne.  Our vision for the conference is that it provides an opportunity for Fulbright alumni and Friends of the Fulbright program to come together in a national event that provides stimulating dialogue around pressing issues.  The program promises to deliver stimulating debate and inspiring talks. We are honoured to host Professor the Hon Bob Carr as the keynote for our inaugural conference (full program available here).  The theme of the conference this year is Leadership in a new era.  We have entered a challenging new era\, in which old ways of seeing and acting no longer seem to apply. More than ever\, leadership is needed on a number of fronts. The question is: how can we help strengthen environmental\, economic\, cultural and social sustainability for this new global age by providing leadership to form a new agenda?\n  This conference is a FREE event\, however we ask that you register for catering purposes. The Conference will open November 17 with a Salon event. If you wish to attend the Salon please register for the opening function separately here.\n\n
DTSTAMP:20260424T155301Z
END:VEVENT
END:VCALENDAR
