BEGIN:VCALENDAR
VERSION:2.0
METHOD:PUBLISH
BEGIN:VEVENT
UID:WILD_APRICOT_EVENT_2566592_SESSION_1
DTSTART:20170615T073000Z
DTEND:20170615T073000Z
SUMMARY:Victorian Chapter Quarterly Social Gathering
LOCATION:Leather Room at University House\, Professors Walk\, University of Melbourne
DESCRIPTION:https://fulbrightalumni.org.au/event-2566592\n\nThe Victorian Chapter will host a welcome event in order to introduce and connect current US Fulbright scholars to local Fulbright Alumni. The US Scholars visiting Melbourne academic institutions will provide a brief outline of their projects. Afterwards we will proceed downstairs for dinner in the restaurant at University House at about 7.30 p.m.  There is no charge for attending this event\, thanks to the generous sponsorship of the University of Melbourne Vice-Chancellor's Office\, and the Alumni Association is pleased to cover the costs of the restaurant dinner for current Fulbright Scholars. All other guests are asked to pay for their own dinners\, please\, if they choose to stay on after the meeting in the Leather Room.\n  RSVP by return email to Elizabeth Brooke: ebrooke425@gmail.com by June 8th.\n
DTSTAMP:20260424T161921Z
END:VEVENT
END:VCALENDAR
