BEGIN:VCALENDAR
VERSION:2.0
METHOD:PUBLISH
BEGIN:VEVENT
UID:WILD_APRICOT_EVENT_2537828_SESSION_1
DTSTART:20170509T083000Z
DTEND:20170509T093000Z
SUMMARY:Encore – Dean's Lecture Series: Interdisciplinary Soundings - Featuring Fulbright Alumnus Dr. Zachary Dunbar
LOCATION:Federation Hall \, 7-17 Grant Street\, Southbank\, VIC 3006
DESCRIPTION:https://fulbrightalumni.org.au/event-2537828\n\nMay 9th\, 6:30pm\, Federation Hall\, Southbank Victoria\n\n  FOR RSVP: https://www.eventbrite.com.au/e/encore-deans-lecture-series-interdisciplinary-soundings-tickets-33383726625?aff=Eflyer\n\n  This upcoming event features AFAA member Dr Zachary Dunbar.\n  Dr. Zachary Dunbar\, Senior Lecturer in Theatre (VCA-Theatre)\, will discuss with Professor Barry Conyngham (Dean of VCA-MCM) his journey from being a concert pianist to theatre practitioner and academic. Zachary reflects on the pros and cons of an interdisciplinary career\, and particularly how music provides unique insights into actors\, training\, and the challenges of rehearsing and performing.\n  The dialogue will be interspersed with a piano performance of works by the nineteenth century romantic composer\, Franz Liszt\, music that dramatizes love’s conflicted interests – or possibly the soundings of an interdisciplinary career.\n  Liszt - Sonetto 123 del Petrarca\n  Liszt - Sonetto 104 del Petrarca\n  Wagner-Liszt - ‘Liebestod’ (from Tristan und Isolde)\n \n\n
DTSTAMP:20260424T161604Z
END:VEVENT
END:VCALENDAR
