BEGIN:VCALENDAR
VERSION:2.0
METHOD:PUBLISH
BEGIN:VEVENT
UID:WILD_APRICOT_EVENT_2388076_SESSION_1
DTSTART:20161124T071500Z
DTEND:20161124T071500Z
SUMMARY:Informal Counter Tea to congratulate Anya Reading Tasmania Fulbright Scholar 2016
LOCATION:Customs House Hotel\, Hobart
DESCRIPTION:https://fulbrightalumni.org.au/event-2388076\n\nLocal Fulbright people and friends in Hobart:   Please join an informal get together this Thursday\, November 24 (Thanksgiving!)\, to belatedly congratulate\, say hi and chat\, to and Anya and her husband ...(and of course\, to offer them any collective wisdom or advice that we can muster\, as to `What Lies Ahead...').\n   We will meet Thursday 24 November at the Customs House hotel at 6:15pm:\n  http://www.customshousehotel.com/wp-content/uploads/DINNER-MENU.pdf\n  Please RSVP by email to Peter Jarvis\, peter.jarvis@utas.edu.au\, by Tuesday November 22\, so that a final booking can be made with the Customs House Hotel.  \n  Best wishes\n  Peter\n
DTSTAMP:20260424T154957Z
END:VEVENT
END:VCALENDAR
