BEGIN:VCALENDAR
VERSION:2.0
METHOD:PUBLISH
BEGIN:VEVENT
UID:WILD_APRICOT_EVENT_2359332_SESSION_1
DTSTART:20161117T070000Z
DTEND:20161117T100000Z
SUMMARY:2016 Victoria Chapter Australian Fulbright Alumni Association Salon
LOCATION:Woodward Conference Centre\, 10th floor\, Melbourne Law (Building 106)\, 185 Pelham St\, Carlton VIC 3053
DESCRIPTION:https://fulbrightalumni.org.au/event-2359332\n\n\n Registrations for the AFAA (Vic) Fulbright Salon on 17th November are now open!\n  The Victoria Chapter of the Australian Fulbright Alumni Association welcomes all AFAA members and friends to join them at their annual Salon event\, kindly sponsored by University of Melbourne\, November 17th from 6pm with cocktail reception following. \n\nRemaining democratic in extreme times: Challenges and directions\, features three outstanding panellists:   • Professor Charles Sampford\, Foundation Dean and Professor of Law and Research Professor in Ethics\, Griffith University\; Fulbight alumnus\n  • Prof Steven Segal\, Director\, Mental Health Research Group\, University of California Berkeley\; current visiting Fulbright Scholar\n  • Frankie A. Reed\, Consul General\, U.S. Consulate General Melbourne\n  We hope you can join us. \n\n
DTSTAMP:20260424T161257Z
END:VEVENT
END:VCALENDAR
