BEGIN:VCALENDAR
VERSION:2.0
METHOD:PUBLISH
BEGIN:VEVENT
UID:WILD_APRICOT_EVENT_2359330_SESSION_1
DTSTART:20161027T103000Z
DTEND:20161027T133000Z
SUMMARY:WA Chapter of the Australian Fulbright Alumni Association Annual Dinner
LOCATION:Acqua Viva On The Swan\, Broadway Jetty\, Nedlands\, WA 6009
DESCRIPTION:https://fulbrightalumni.org.au/event-2359330\n\nThe WA Chapter of the Australian Fulbright Alumni Association has great pleasure in inviting you (and y our partner or guests) to the 2016 Fulbright Annual Dinner with special guest speaker: Professor David Denemark (University of Western Australia) speaking on "Making sense of the US Presidential Election".  The dinner will be held October 27th from 6:30-9:30pm at Acqua Viva On The Swan. Further details are available on the formal invitation: 2016 Fulbright dinner invite.pdf.   Cost: $80/person (AFAA member)\, $92/person (non-AFAA member)\n\n  RSVP: Please RSVP by Friday 14th October online at https://www.eventbrite.com.au/e/2016-fulbrightwa-annual-dinner-tickets-27481133811\n\nUPDATE: The WA AFAA Chapter is delighted that a special guest\, the new director of the Commission Mr Thomas Dougherty\, will be attending.  This is an excellent opportunity for Fulbright alumni who have not yet had the pleasure of meeting the new director.    \n
DTSTAMP:20260424T161515Z
END:VEVENT
END:VCALENDAR
