BEGIN:VCALENDAR
VERSION:2.0
METHOD:PUBLISH
BEGIN:VEVENT
UID:WILD_APRICOT_EVENT_2060395_SESSION_1
DTSTART:20141220T083000Z
DTEND:20141220T083000Z
SUMMARY:Queensland Chapter Christmas Party
LOCATION:Restaurant
DESCRIPTION:https://fulbrightalumni.org.au/event-2060395\n\nAnnual Christmas Party\n\n     \n         Come join us for our annual QLD chapter Christmas party.    
DTSTAMP:20260424T161327Z
END:VEVENT
END:VCALENDAR
