BEGIN:VCALENDAR
VERSION:2.0
METHOD:PUBLISH
BEGIN:VEVENT
UID:WILD_APRICOT_EVENT_2060394_SESSION_1
DTSTART:20160401T063000Z
DTEND:20160401T090000Z
SUMMARY:Australian Fulbright Alumni Association Annual General Meeting
LOCATION:Seminar Room 515\, Melbourne School of Population and Global Health Level 5\, 207 Bouverie Street University of Melbourne VIC 3010
DESCRIPTION:https://fulbrightalumni.org.au/event-2060394\n\nThe Australian Fulbright Alumni Association Annual General Meeting will be held the evening of April 1 in Melbourne\, starting at 5:30pm. \n\n  The location details are:\n\n  Seminar Room 515\n Melbourne School of Population and Global Health\n Level 5\, 207 Bouverie Street University of Melbourne VIC 3010\n  All members were provided with AGM agenda and papers on February 23. If you would like to receive these again please email and we will provide them. Voting items include the proposed ammendements to the AFAA Constituion and nomintations for Committee roles. \n\n  We are still accepting nominations so please consider nominating yourself. It's a great way to serve your Alumni community and it can be good fun! \n\n  All members wishing to attend the AGM may attend in person or by teleconference. Please RSVP at our event page https://fulbrightalumni.org.au/event-2060394.\n\n  Dial in details are:\n  Dial-in Number: +61 (0) 3 9028 0260\n Participant Access Code: 447498\n\n
DTSTAMP:20260424T161714Z
END:VEVENT
END:VCALENDAR
