BEGIN:VCALENDAR
VERSION:2.0
METHOD:PUBLISH
BEGIN:VEVENT
UID:WILD_APRICOT_EVENT_2060393_SESSION_1
DTSTART:20151119T070000Z
DTEND:20151119T083000Z
SUMMARY:Victoria State Chapter Salon Event
LOCATION:Melbourne
DESCRIPTION:https://fulbrightalumni.org.au/event-2060393\n\nCome join us for another Salon event where we will be hearing from some great speakers and engage in stimulating debate. \n\n\n
DTSTAMP:20260424T161506Z
END:VEVENT
END:VCALENDAR
